BEGIN:VCALENDAR
VERSION:2.0
PRODID:-//Arlington County Fair - ECPv6.15.20//NONSGML v1.0//EN
CALSCALE:GREGORIAN
METHOD:PUBLISH
X-WR-CALNAME:Arlington County Fair
X-ORIGINAL-URL:https://arlingtoncountyfair.us
X-WR-CALDESC:Events for Arlington County Fair
REFRESH-INTERVAL;VALUE=DURATION:PT1H
X-Robots-Tag:noindex
X-PUBLISHED-TTL:PT1H
BEGIN:VTIMEZONE
TZID:America/New_York
BEGIN:DAYLIGHT
TZOFFSETFROM:-0500
TZOFFSETTO:-0400
TZNAME:EDT
DTSTART:20200308T070000
END:DAYLIGHT
BEGIN:STANDARD
TZOFFSETFROM:-0400
TZOFFSETTO:-0500
TZNAME:EST
DTSTART:20201101T060000
END:STANDARD
BEGIN:DAYLIGHT
TZOFFSETFROM:-0500
TZOFFSETTO:-0400
TZNAME:EDT
DTSTART:20210314T070000
END:DAYLIGHT
BEGIN:STANDARD
TZOFFSETFROM:-0400
TZOFFSETTO:-0500
TZNAME:EST
DTSTART:20211107T060000
END:STANDARD
BEGIN:DAYLIGHT
TZOFFSETFROM:-0500
TZOFFSETTO:-0400
TZNAME:EDT
DTSTART:20220313T070000
END:DAYLIGHT
BEGIN:STANDARD
TZOFFSETFROM:-0400
TZOFFSETTO:-0500
TZNAME:EST
DTSTART:20221106T060000
END:STANDARD
END:VTIMEZONE
BEGIN:VEVENT
DTSTART;TZID=America/New_York:20210822T194500
DTEND;TZID=America/New_York:20210822T203000
DTSTAMP:20260423T165816
CREATED:20210728T023514Z
LAST-MODIFIED:20210814T173600Z
UID:1990-1629661500-1629664200@arlingtoncountyfair.us
SUMMARY:Bumperyachts @ Entertainment Stage
DESCRIPTION:Bumperyachts is a rock/alternative band playing a mix of original songs and covers. Check them out in the Entertainment Tent at the Arlington County Fair!
URL:https://arlingtoncountyfair.us/schedule/bumperyachts-entertainment-stage/
LOCATION:Entertainment Stage\, 3501 2nd St S\, Arlington\, United States
CATEGORIES:Entertainment Tent
END:VEVENT
BEGIN:VEVENT
DTSTART;TZID=America/New_York:20210822T183000
DTEND;TZID=America/New_York:20210822T191500
DTSTAMP:20260423T165816
CREATED:20210728T023323Z
LAST-MODIFIED:20210728T023323Z
UID:1988-1629657000-1629659700@arlingtoncountyfair.us
SUMMARY:Griefcat @ Entertainment Stage
DESCRIPTION:Griefcat is giving us a Folksy Flight of the Conchords mixed with Dolly Parton and an indie flare. Be sure to check them out!
URL:https://arlingtoncountyfair.us/schedule/griefcat-entertainment-stage/
LOCATION:Entertainment Stage\, 3501 2nd St S\, Arlington\, United States
CATEGORIES:Entertainment Tent
END:VEVENT
BEGIN:VEVENT
DTSTART;TZID=America/New_York:20210822T171500
DTEND;TZID=America/New_York:20210822T180000
DTSTAMP:20260423T165816
CREATED:20210728T023029Z
LAST-MODIFIED:20210728T023029Z
UID:1985-1629652500-1629655200@arlingtoncountyfair.us
SUMMARY:Wendell Live! @ Entertainment Stage
DESCRIPTION:Wendell Live is a Las Vegas Tribute artist bringing you the hits of Frank Sinatra\, Dean Martin\, Bobby Darin\, Michael Bublé and the rest of the Rat Pack along with pop hits people love to hear from artists such as Frankie Valli\, Tommy James\, Eddie Money\, Barry Manilow\, Ray Charles\, Robbie Williams and many\, many more!
URL:https://arlingtoncountyfair.us/schedule/wendell-live-entertainment-stage/
LOCATION:Entertainment Stage\, 3501 2nd St S\, Arlington\, United States
CATEGORIES:Entertainment Tent
END:VEVENT
BEGIN:VEVENT
DTSTART;TZID=America/New_York:20210822T170000
DTEND;TZID=America/New_York:20210822T174500
DTSTAMP:20260423T165816
CREATED:20210806T112810Z
LAST-MODIFIED:20210818T162319Z
UID:2355-1629651600-1629654300@arlingtoncountyfair.us
SUMMARY:Muscle Conditioning @ Basketball Court
DESCRIPTION:Get your heartrate up and get a bodyweight workout before stretching it out at a free Muscle Conditioning class hosted by Arlington County! \nRegister here.
URL:https://arlingtoncountyfair.us/schedule/muscle-conditioning-basketball-court-3/
END:VEVENT
BEGIN:VEVENT
DTSTART;TZID=America/New_York:20210822T170000
DTEND;TZID=America/New_York:20210822T173000
DTSTAMP:20260423T165816
CREATED:20210812T024858Z
LAST-MODIFIED:20210812T024858Z
UID:2451-1629651600-1629653400@arlingtoncountyfair.us
SUMMARY:TimeWarpRock @ Beer Garden
DESCRIPTION:TimeWarpRock will put take you back in time to headbanging rock and synth pop! They are a crowd-pleaser\, so don’t miss them!
URL:https://arlingtoncountyfair.us/schedule/timewarprock-beer-garden/
LOCATION:Beer Garden\, 2nd Street S between S Jackson St and S Ivy St (on-street)\, Arlington\, VA\, 22204\, United States
END:VEVENT
BEGIN:VEVENT
DTSTART;TZID=America/New_York:20210822T160000
DTEND;TZID=America/New_York:20210822T170000
DTSTAMP:20260423T165816
CREATED:20210728T022816Z
LAST-MODIFIED:20210728T022816Z
UID:1983-1629648000-1629651600@arlingtoncountyfair.us
SUMMARY:Jaleo Arte Flamenco @ Entertainment Stage
DESCRIPTION:Don’t miss the Jaleo Arte Flamenco dance group with their colorful\, fun\, cultural experience at the Entertainment Tent.
URL:https://arlingtoncountyfair.us/schedule/jaleo-arte-flamenco-entertainment-stage/
LOCATION:Entertainment Stage\, 3501 2nd St S\, Arlington\, United States
CATEGORIES:Entertainment Tent
END:VEVENT
BEGIN:VEVENT
DTSTART;TZID=America/New_York:20210822T160000
DTEND;TZID=America/New_York:20210822T163000
DTSTAMP:20260423T165816
CREATED:20210728T144529Z
LAST-MODIFIED:20210728T144529Z
UID:2015-1629648000-1629649800@arlingtoncountyfair.us
SUMMARY:Drew Blue Shoes @ Kids Court
DESCRIPTION:Everyone’s favorite magician\, Drew Blue Shoes\, returns with his wondrous show. His eye-popping magic and hilarious humor delights all!
URL:https://arlingtoncountyfair.us/schedule/drew-blue-shoes-kids-court-7/
LOCATION:Kids Court\, 3501 2nd St S\, Arlington\, VA\, 22204\, United States
END:VEVENT
BEGIN:VEVENT
DTSTART;TZID=America/New_York:20210822T153000
DTEND;TZID=America/New_York:20210822T160000
DTSTAMP:20260423T165816
CREATED:20210812T024724Z
LAST-MODIFIED:20210812T024724Z
UID:2449-1629646200-1629648000@arlingtoncountyfair.us
SUMMARY:Bumperyachts @ Beer Garden
DESCRIPTION:Bumperyachts is a rock/alternative band playing a mix of original songs and covers. Check them out in the Beer Garden!
URL:https://arlingtoncountyfair.us/schedule/bumperyachts-beer-garden/
LOCATION:Beer Garden\, 2nd Street S between S Jackson St and S Ivy St (on-street)\, Arlington\, VA\, 22204\, United States
END:VEVENT
BEGIN:VEVENT
DTSTART;TZID=America/New_York:20210822T150000
DTEND;TZID=America/New_York:20210822T153000
DTSTAMP:20260423T165816
CREATED:20210728T144244Z
LAST-MODIFIED:20210728T144244Z
UID:2013-1629644400-1629646200@arlingtoncountyfair.us
SUMMARY:Drew Blue Shoes @ Kids Court
DESCRIPTION:Everyone’s favorite magician\, Drew Blue Shoes\, returns with his wondrous show. His eye-popping magic and hilarious humor delights all!
URL:https://arlingtoncountyfair.us/schedule/drew-blue-shoes-kids-court-6/
LOCATION:Kids Court\, 3501 2nd St S\, Arlington\, VA\, 22204\, United States
END:VEVENT
BEGIN:VEVENT
DTSTART;TZID=America/New_York:20210822T144500
DTEND;TZID=America/New_York:20210822T153000
DTSTAMP:20260423T165816
CREATED:20210728T022558Z
LAST-MODIFIED:20210728T022558Z
UID:1981-1629643500-1629646200@arlingtoncountyfair.us
SUMMARY:DEMZ @ Entertainment Stage
DESCRIPTION:DEMZ is covering acoustic rock\, pop\, and folk tunes from the 60s through today. If you like Bruce Springsteen\, Bob Dylan\, CCR\, Ryan Adams\, then this one’s for you!
URL:https://arlingtoncountyfair.us/schedule/demz-entertainment-stage/
LOCATION:Entertainment Stage\, 3501 2nd St S\, Arlington\, United States
CATEGORIES:Entertainment Tent
END:VEVENT
BEGIN:VEVENT
DTSTART;TZID=America/New_York:20210822T140000
DTEND;TZID=America/New_York:20210822T180000
DTSTAMP:20260423T165816
CREATED:20210728T151211Z
LAST-MODIFIED:20210728T151211Z
UID:2031-1629640800-1629655200@arlingtoncountyfair.us
SUMMARY:Puppet Making @ Kids Court
DESCRIPTION:Join us this year in Kids Court with a special puppet making activity. Your child will be so proud of the take-home puppet!
URL:https://arlingtoncountyfair.us/schedule/puppet-making-kids-court-3/
LOCATION:Kids Court\, 3501 2nd St S\, Arlington\, VA\, 22204\, United States
END:VEVENT
BEGIN:VEVENT
DTSTART;TZID=America/New_York:20210822T140000
DTEND;TZID=America/New_York:20210822T180000
DTSTAMP:20260423T165816
CREATED:20210725T133617Z
LAST-MODIFIED:20210725T133617Z
UID:1565-1629640800-1629655200@arlingtoncountyfair.us
SUMMARY:Kids Court
DESCRIPTION:Calling all kids! Join us for FREE fun each afternoon of the Fair with inflatable games\, puppet making\, coloring\, performances from Drew Blue Shoes and appearances from friends like Gulf Branch Nature Center and Synetic Theatre!
URL:https://arlingtoncountyfair.us/schedule/kids-court-3/
END:VEVENT
BEGIN:VEVENT
DTSTART;TZID=America/New_York:20210822T133000
DTEND;TZID=America/New_York:20210822T141500
DTSTAMP:20260423T165816
CREATED:20210728T022343Z
LAST-MODIFIED:20210728T022343Z
UID:1979-1629639000-1629641700@arlingtoncountyfair.us
SUMMARY:TimeWarpRock @ Entertainment Stage
DESCRIPTION:TimeWarpRock will put take you back in time to headbanging rock and synth pop! They are a crowd-pleaser\, so don’t miss them!
URL:https://arlingtoncountyfair.us/schedule/timewarprock-entertainment-stage/
LOCATION:Entertainment Stage\, 3501 2nd St S\, Arlington\, United States
CATEGORIES:Entertainment Tent
END:VEVENT
BEGIN:VEVENT
DTSTART;TZID=America/New_York:20210822T121500
DTEND;TZID=America/New_York:20210822T130000
DTSTAMP:20260423T165816
CREATED:20210728T022118Z
LAST-MODIFIED:20210728T022118Z
UID:1977-1629634500-1629637200@arlingtoncountyfair.us
SUMMARY:Modine\, Queens & Friends @ Entertainment Stage
DESCRIPTION:Modine\, Queens and Friends have something for everyone – singing\, opera\, dancing\, fiddle\, comedy. You’re not going to want to miss this one!
URL:https://arlingtoncountyfair.us/schedule/modine-queens-friends-entertainment-stage/
LOCATION:Entertainment Stage\, 3501 2nd St S\, Arlington\, United States
CATEGORIES:Entertainment Tent
END:VEVENT
BEGIN:VEVENT
DTSTART;TZID=America/New_York:20210822T120000
DTEND;TZID=America/New_York:20210822T180000
DTSTAMP:20260423T165816
CREATED:20210722T024733Z
LAST-MODIFIED:20210727T151549Z
UID:1538-1629633600-1629655200@arlingtoncountyfair.us
SUMMARY:Beer Garden
DESCRIPTION:The Arlington County Fair is partnering with New District Brewery to bring fair patrons the second annual beer garden. Come enjoy the fair and then enjoy a New District beer\, made locally here in Arlington. The Beer Garden is FREE to enter! Families and children are welcome! We look forward to welcoming you to the beer garden. \nThe beer garden is located on S Old Glebe Rd between S Glebe Rd and 2nd St S behind the 7-11. \nPre-sale early bird tickets are available for purchase at a discounted price of three tickets for $21 for 3 Beers. $8 per beer the day of event! The first 250 pre-sale tickets sold come with a souvenir glass! Purchase pre-sale tickets here. \nBeer Garden Schedule: \n\nWed.\, Aug. 18\, 5:00pm-9:00pm: Special Paint & Sip Night\, ROCKLANDS Barbeque and Grilling Company\nThurs.\, Aug. 19\, 5:00pm-9:00pm: Special Trivia Night\, ROCKLANDS Barbeque and Grilling Company\nFri.\, Aug. 20\, 3:00pm-9:30pm: Performances and games\, ROCKLANDS Barbeque and Grilling Company\nSat.\, Aug. 21\, 12:00pm-9:30pm: Performances and games\, ROCKLANDS Barbeque and Grilling Company and Timber Pizza Co\nSun.\, Aug. 22\, 12:00pm-6:00pm: Performances and games\, ROCKLANDS Barbeque and Grilling Company and Timber Pizza Co\n\nDrinks on tap: \n* National Landing – IPA – 6.2% \nBursting with flavors of citrus and tropical fruit\, this IPA was brewed and double dry hopped with large amounts of Mosaic\, Mosaic Cryo\, and Galaxy hops. \n* Green Valley – Pilsner – 4.7% \nNamed after an Arlington neighborhood\, Green Valley is brewed as a traditional Czech-style Pilsner\, but before lagering was dry-hopped with Mandarina Bavaria for a light tangerine flavor. \n*Raspberry Lemon Beret – Kettle Sour – 4.8% \nOur Kettle Sour fermented with raspberry and lemon that tastes just like a sweet and tart lemonade. \n* Hard Selly – Hard Seltzer – 5.0% \nAvailable flavors are Plain\, Cherry-Lime-Blue Raspberry\, Passionfruit-Orange-Guava
URL:https://arlingtoncountyfair.us/schedule/beer-garden-5/
LOCATION:Beer Garden\, 2nd Street S between S Jackson St and S Ivy St (on-street)\, Arlington\, VA\, 22204\, United States
END:VEVENT
BEGIN:VEVENT
DTSTART;TZID=America/New_York:20210822T120000
DTEND;TZID=America/New_York:20210822T160000
DTSTAMP:20260423T165816
CREATED:20210728T145625Z
LAST-MODIFIED:20210728T145625Z
UID:2023-1629633600-1629648000@arlingtoncountyfair.us
SUMMARY:Micro-Mobility "Petting Zoo" @ Tennis Courts
DESCRIPTION:Ride the transportation revolution at the Arlington County Fair! BikeArlington will have a variety of innovative personal vehicles for you to try\, including e-bikes\, cargo bikes\, e-scooters\, Capital Bikeshare\, and more. Our staff will be onsite to provide a comfortable\, guided experience for your test ride\, and to answer any questions you have. Plus\, we have a special traffic garden area just for kids (strider bikes provided) with lots to explore. Head to the tennis courts to take these bikes and more for a spin. \n\nFriday\, Aug. 20\, 6pm – 8pm\nSaturday\, Aug 21\, 12pm – 4pm\nSunday\, Aug 22\, 12pm – 4pm
URL:https://arlingtoncountyfair.us/schedule/micro-mobility-petting-zoo-tennis-courts-3/
LOCATION:Tennis Courts\, 3501 2nd St S\, Arlington\, 22204\, United States
END:VEVENT
BEGIN:VEVENT
DTSTART;TZID=America/New_York:20210822T120000
DTEND;TZID=America/New_York:20210822T123000
DTSTAMP:20260423T165816
CREATED:20210728T143949Z
LAST-MODIFIED:20210728T143949Z
UID:2011-1629633600-1629635400@arlingtoncountyfair.us
SUMMARY:Drew Blue Shoes @ Kids Court
DESCRIPTION:Everyone’s favorite magician\, Drew Blue Shoes\, returns with his wondrous show. His eye-popping magic and hilarious humor delights all!
URL:https://arlingtoncountyfair.us/schedule/drew-blue-shoes-kids-court-5/
LOCATION:Kids Court\, 3501 2nd St S\, Arlington\, VA\, 22204\, United States
END:VEVENT
BEGIN:VEVENT
DTSTART;TZID=America/New_York:20210822T110000
DTEND;TZID=America/New_York:20210822T220000
DTSTAMP:20260423T165816
CREATED:20210805T015252Z
LAST-MODIFIED:20210807T135539Z
UID:2156-1629630000-1629669600@arlingtoncountyfair.us
SUMMARY:Mobile Axe Throwing & Escape Room
DESCRIPTION:Don your flannel shirt\, and throw some axes in Odyssey Mobile Adventure’s amazing and super safe mobile axe throwing trailer or try your hand at an immersive adventure in the escape room!\n \nPurchase axe throwing tickets here. Purchase escape room tickets here.
URL:https://arlingtoncountyfair.us/schedule/mobile-axe-throwing-5/
END:VEVENT
BEGIN:VEVENT
DTSTART;TZID=America/New_York:20210822T110000
DTEND;TZID=America/New_York:20210822T114500
DTSTAMP:20260423T165816
CREATED:20210728T021931Z
LAST-MODIFIED:20210728T021931Z
UID:1975-1629630000-1629632700@arlingtoncountyfair.us
SUMMARY:Halau O 'Aulani @ Entertainment Stage
DESCRIPTION:Halau O’Aulani is a Hawaiian cultural school that provides a presentation of live Hawaiian music and hula dancing. All this right at the Arlington County Fair! See them transform the Fair into an Hawaiian experience!
URL:https://arlingtoncountyfair.us/schedule/halau-o-aulani-entertainment-stage/
LOCATION:Entertainment Stage\, 3501 2nd St S\, Arlington\, United States
CATEGORIES:Entertainment Tent
END:VEVENT
BEGIN:VEVENT
DTSTART;TZID=America/New_York:20210822T103000
DTEND;TZID=America/New_York:20210822T113000
DTSTAMP:20260423T165816
CREATED:20210728T151910Z
LAST-MODIFIED:20210728T151910Z
UID:2040-1629628200-1629631800@arlingtoncountyfair.us
SUMMARY:Goat Yoga
DESCRIPTION:Goat Yoga is coming back to the Arlington County Fair! Join us for an hour of mellow yoga suitable for all levels. \nJoin us for an hour of mellow yoga suitable for all levels on the Fairgrounds At Thomas Jefferson Community Center. This event benefits the Fair\,  which has been providing quality entertainment for over 40 years. The Arlington County Fair  is a free\, non-profit volunteer-driven organization that embraces a diverse community by educating\, entertaining\, and showcasing the best of Arlington. Cost is $40 per person. Register here. \nFriendly goats from Walnut Creek Farm will roam among us while we enjoy our casual OUTDOOR yoga practice. The goats are curious and interested in climbing and interacting with people. Children should be no younger than 10\, comfortable with animals\, and accompanied by an adult to attend. \nPLESE BYO Yoga mat.  ALL individuals entering the field MUST have a ticket\, regardless of whether or not participating in the yoga class. \nRAIN PLAN: In case of rain\, our event will move indoors\, to Faith Lutheran Church in Arlington. We will notify you in advance as early as possible in case of rain. Times will remain the same on Saturday\, but in case of rain\, the Sunday sessions will shift from 9:00am to 12:30pm\, and the 10:30am will shift to 2:00pm.
URL:https://arlingtoncountyfair.us/schedule/goat-yoga-4/
END:VEVENT
BEGIN:VEVENT
DTSTART;TZID=America/New_York:20210822T090000
DTEND;TZID=America/New_York:20210822T100000
DTSTAMP:20260423T165816
CREATED:20210728T151820Z
LAST-MODIFIED:20210728T151820Z
UID:2038-1629622800-1629626400@arlingtoncountyfair.us
SUMMARY:Goat Yoga
DESCRIPTION:Goat Yoga is coming back to the Arlington County Fair! Join us for an hour of mellow yoga suitable for all levels. \nJoin us for an hour of mellow yoga suitable for all levels on the Fairgrounds At Thomas Jefferson Community Center. This event benefits the Fair\,  which has been providing quality entertainment for over 40 years. The Arlington County Fair  is a free\, non-profit volunteer-driven organization that embraces a diverse community by educating\, entertaining\, and showcasing the best of Arlington. Cost is $40 per person. Register here. \nFriendly goats from Walnut Creek Farm will roam among us while we enjoy our casual OUTDOOR yoga practice. The goats are curious and interested in climbing and interacting with people. Children should be no younger than 10\, comfortable with animals\, and accompanied by an adult to attend. \nPLESE BYO Yoga mat.  ALL individuals entering the field MUST have a ticket\, regardless of whether or not participating in the yoga class. \nRAIN PLAN: In case of rain\, our event will move indoors\, to Faith Lutheran Church in Arlington. We will notify you in advance as early as possible in case of rain. Times will remain the same on Saturday\, but in case of rain\, the Sunday sessions will shift from 9:00am to 12:30pm\, and the 10:30am will shift to 2:00pm.
URL:https://arlingtoncountyfair.us/schedule/goat-yoga-3/
END:VEVENT
BEGIN:VEVENT
DTSTART;TZID=America/New_York:20210821T220000
DTEND;TZID=America/New_York:20210821T224500
DTSTAMP:20260423T165816
CREATED:20210805T013701Z
LAST-MODIFIED:20210805T013752Z
UID:2146-1629583200-1629585900@arlingtoncountyfair.us
SUMMARY:Prince Snowflake and his two Armenian Mommies
DESCRIPTION:Welcome to The Royal Magical Prince Snowflake with his 2 Armenian Mommies!!……Starring Prince Snowflake\, the Odd-eyed white rescue cat with an unbelievable PURRsonality like no other & God Given talents. Snowflake absolutely loves people & total strangers\, & he loves making people happy By PURRforming along with his 2 Armenian Mommies\, that are his owners\, a Mama & Daughter Duo\, named Mary Ann & Rosie. Our performance is a magical mashup of Prince Snowflake performing a Royal Fashion Show\, Magic\, and Tricks\, along with his 2 Armenian Mommies & lots of dramatic magical surprises!! It’s a fun\, insanely creative\, energetic\, enchanting and entertaining experience that everyone loves to see!! There’s something for everyone to enjoy!! Plus\, witness a very special magical surprise!! \nThis is truly a one-of-a-kind Magical Variety Cat Act\, starring Prince Snowflake!! Where else can you see a cat doing all that??!! \nCome have a once-in-a lifetime “MEOWmagical Prince Snowflake Experience\,” and share a blast together at the Arlington County Fair!! \nMeows & Purrs to you!!
URL:https://arlingtoncountyfair.us/schedule/prince-snowflake-and-his-two-armenian-mommies/
LOCATION:Entertainment Stage\, 3501 2nd St S\, Arlington\, United States
CATEGORIES:Entertainment Tent
END:VEVENT
BEGIN:VEVENT
DTSTART;TZID=America/New_York:20210821T204500
DTEND;TZID=America/New_York:20210821T213000
DTSTAMP:20260423T165816
CREATED:20210811T235644Z
LAST-MODIFIED:20210811T235932Z
UID:2436-1629578700-1629581400@arlingtoncountyfair.us
SUMMARY:The Sprinting Turtles @ Entertainment Stage
DESCRIPTION:
URL:https://arlingtoncountyfair.us/schedule/the-sprinting-turtles-entertainment-stage/
LOCATION:Entertainment Stage\, 3501 2nd St S\, Arlington\, United States
END:VEVENT
BEGIN:VEVENT
DTSTART;TZID=America/New_York:20210821T193000
DTEND;TZID=America/New_York:20210821T201500
DTSTAMP:20260423T165816
CREATED:20210728T021249Z
LAST-MODIFIED:20210728T021249Z
UID:1971-1629574200-1629576900@arlingtoncountyfair.us
SUMMARY:Cuzko @ Entertainment Stage
DESCRIPTION:Come dance to DJ Cuzko spinning Latin\, reggaeton\, pop\, house\, and electronic music at the Entertainment Tent!
URL:https://arlingtoncountyfair.us/schedule/cuzko-entertainment-stage/
LOCATION:Entertainment Stage\, 3501 2nd St S\, Arlington\, United States
CATEGORIES:Entertainment Tent
END:VEVENT
BEGIN:VEVENT
DTSTART;TZID=America/New_York:20210821T193000
DTEND;TZID=America/New_York:20210821T200000
DTSTAMP:20260423T165816
CREATED:20210812T024548Z
LAST-MODIFIED:20210812T024548Z
UID:2447-1629574200-1629576000@arlingtoncountyfair.us
SUMMARY:Sarah Baumgarten @ Beer Garden
DESCRIPTION:Sarah Baumgarten is no stranger to performing at the Fair. We have watched her grow up on the stage at the Fair Grounds! We are so excited to have Sarah perform at the Beer Garden!
URL:https://arlingtoncountyfair.us/schedule/sarah-baumgarten-beer-garden/
LOCATION:Beer Garden\, 2nd Street S between S Jackson St and S Ivy St (on-street)\, Arlington\, VA\, 22204\, United States
END:VEVENT
BEGIN:VEVENT
DTSTART;TZID=America/New_York:20210821T181500
DTEND;TZID=America/New_York:20210821T190000
DTSTAMP:20260423T165816
CREATED:20210728T021053Z
LAST-MODIFIED:20210728T021053Z
UID:1968-1629569700-1629572400@arlingtoncountyfair.us
SUMMARY:The Sunshine Gang @ Entertainment Stage
DESCRIPTION:The Sunshine Gang brings together talented musicians and singers who inspire each other and entertain audiences by “finding the fun” in making music. Their repertoire is drawn largely from classic 1960’s – 1980’s rock & roll. If you like the Beatles\, Elvis\, Gordon Lightfoot\, Stevie Wonder\, Doobie Brothers and the likes\, you’ll love their show!
URL:https://arlingtoncountyfair.us/schedule/the-sunshine-gang-entertainment-stage/
LOCATION:Entertainment Stage\, 3501 2nd St S\, Arlington\, United States
CATEGORIES:Entertainment Tent
END:VEVENT
BEGIN:VEVENT
DTSTART;TZID=America/New_York:20210821T180000
DTEND;TZID=America/New_York:20210821T183000
DTSTAMP:20260423T165816
CREATED:20210728T143844Z
LAST-MODIFIED:20210728T143844Z
UID:2009-1629568800-1629570600@arlingtoncountyfair.us
SUMMARY:Drew Blue Shoes @ Kids Court
DESCRIPTION:Everyone’s favorite magician\, Drew Blue Shoes\, returns with his wondrous show. His eye-popping magic and hilarious humor delights all!
URL:https://arlingtoncountyfair.us/schedule/drew-blue-shoes-kids-court-4/
LOCATION:Kids Court\, 3501 2nd St S\, Arlington\, VA\, 22204\, United States
END:VEVENT
BEGIN:VEVENT
DTSTART;TZID=America/New_York:20210821T170000
DTEND;TZID=America/New_York:20210821T174500
DTSTAMP:20260423T165816
CREATED:20210806T112709Z
LAST-MODIFIED:20210818T162427Z
UID:2353-1629565200-1629567900@arlingtoncountyfair.us
SUMMARY:Muscle Conditioning @ Basketball Court
DESCRIPTION:Get your heartrate up and get a bodyweight workout before stretching it out at a free Muscle Conditioning class hosted by Arlington County! \nRegister here.
URL:https://arlingtoncountyfair.us/schedule/muscle-conditioning-basketball-court-2/
END:VEVENT
BEGIN:VEVENT
DTSTART;TZID=America/New_York:20210821T170000
DTEND;TZID=America/New_York:20210821T174500
DTSTAMP:20260423T165816
CREATED:20210728T020851Z
LAST-MODIFIED:20210728T020851Z
UID:1966-1629565200-1629567900@arlingtoncountyfair.us
SUMMARY:Old Dominion Cloggers @ Entertainment Stage
DESCRIPTION:The Old Dominion Cloggers have been participating at the Arlington County Fair for over 20 years! They are a precision clog dance team that started in 1977. They perform traditional clog dancing and practice in Arlington. Come check out their clogging to your favorite country and pop songs!
URL:https://arlingtoncountyfair.us/schedule/old-dominion-cloggers-entertainment-stage/
LOCATION:Entertainment Stage\, 3501 2nd St S\, Arlington\, United States
CATEGORIES:Entertainment Tent
END:VEVENT
BEGIN:VEVENT
DTSTART;TZID=America/New_York:20210821T163000
DTEND;TZID=America/New_York:20210821T170000
DTSTAMP:20260423T165816
CREATED:20210812T024158Z
LAST-MODIFIED:20210812T024158Z
UID:2441-1629563400-1629565200@arlingtoncountyfair.us
SUMMARY:Griefcat @ Beer Garden
DESCRIPTION:Griefcat is giving us a Folksy Flight of the Conchords mixed with Dolly Parton and an indie flare. Be sure to check them out!
URL:https://arlingtoncountyfair.us/schedule/griefcat-beer-garden/
LOCATION:Beer Garden\, 2nd Street S between S Jackson St and S Ivy St (on-street)\, Arlington\, VA\, 22204\, United States
END:VEVENT
END:VCALENDAR