BEGIN:VCALENDAR
VERSION:2.0
PRODID:-//Arlington County Fair - ECPv6.15.20//NONSGML v1.0//EN
CALSCALE:GREGORIAN
METHOD:PUBLISH
X-ORIGINAL-URL:https://arlingtoncountyfair.us
X-WR-CALDESC:Events for Arlington County Fair
REFRESH-INTERVAL;VALUE=DURATION:PT1H
X-Robots-Tag:noindex
X-PUBLISHED-TTL:PT1H
BEGIN:VTIMEZONE
TZID:America/New_York
BEGIN:DAYLIGHT
TZOFFSETFROM:-0500
TZOFFSETTO:-0400
TZNAME:EDT
DTSTART:20220313T070000
END:DAYLIGHT
BEGIN:STANDARD
TZOFFSETFROM:-0400
TZOFFSETTO:-0500
TZNAME:EST
DTSTART:20221106T060000
END:STANDARD
BEGIN:DAYLIGHT
TZOFFSETFROM:-0500
TZOFFSETTO:-0400
TZNAME:EDT
DTSTART:20230312T070000
END:DAYLIGHT
BEGIN:STANDARD
TZOFFSETFROM:-0400
TZOFFSETTO:-0500
TZNAME:EST
DTSTART:20231105T060000
END:STANDARD
BEGIN:DAYLIGHT
TZOFFSETFROM:-0500
TZOFFSETTO:-0400
TZNAME:EDT
DTSTART:20240310T070000
END:DAYLIGHT
BEGIN:STANDARD
TZOFFSETFROM:-0400
TZOFFSETTO:-0500
TZNAME:EST
DTSTART:20241103T060000
END:STANDARD
END:VTIMEZONE
BEGIN:VEVENT
DTSTART;TZID=America/New_York:20230818T160000
DTEND;TZID=America/New_York:20230818T163000
DTSTAMP:20260423T070644
CREATED:20220804T165925Z
LAST-MODIFIED:20230818T201303Z
UID:2970-1692374400-1692376200@arlingtoncountyfair.us
SUMMARY:Drew Blue Shoes
DESCRIPTION:Everyone’s favorite magician\, Drew Blue Shoes\, returns with his wondrous show. His eye-popping magic and hilarious humor delights all! Check out his shows at the Family Fun Spot Up Top above the midway: \n\nFri.\, Aug 18: 4 p.m. and 5 p.m.\nSat.\, Aug. 19: 10:30 a.m.\, 1 p.m. and 2 p.m.\nSun.\, Aug. 20: 12 p.m.\, 1 p.m. and 2 p.m.\n\n 
URL:https://arlingtoncountyfair.us/schedule/drew-blue-shoes-8/
LOCATION:Family Fun Spot Up Top
END:VEVENT
END:VCALENDAR